BEGIN:VCALENDAR
VERSION:2.0
PRODID:-//Immanuel Presbyterian Church - ECPv6.15.18//NONSGML v1.0//EN
CALSCALE:GREGORIAN
METHOD:PUBLISH
X-WR-CALNAME:Immanuel Presbyterian Church
X-ORIGINAL-URL:https://ipcmclean.org
X-WR-CALDESC:Events for Immanuel Presbyterian Church
REFRESH-INTERVAL;VALUE=DURATION:PT1H
X-Robots-Tag:noindex
X-PUBLISHED-TTL:PT1H
BEGIN:VTIMEZONE
TZID:America/New_York
BEGIN:DAYLIGHT
TZOFFSETFROM:-0500
TZOFFSETTO:-0400
TZNAME:EDT
DTSTART:20250309T070000
END:DAYLIGHT
BEGIN:STANDARD
TZOFFSETFROM:-0400
TZOFFSETTO:-0500
TZNAME:EST
DTSTART:20251102T060000
END:STANDARD
BEGIN:DAYLIGHT
TZOFFSETFROM:-0500
TZOFFSETTO:-0400
TZNAME:EDT
DTSTART:20260308T070000
END:DAYLIGHT
BEGIN:STANDARD
TZOFFSETFROM:-0400
TZOFFSETTO:-0500
TZNAME:EST
DTSTART:20261101T060000
END:STANDARD
BEGIN:DAYLIGHT
TZOFFSETFROM:-0500
TZOFFSETTO:-0400
TZNAME:EDT
DTSTART:20270314T070000
END:DAYLIGHT
BEGIN:STANDARD
TZOFFSETFROM:-0400
TZOFFSETTO:-0500
TZNAME:EST
DTSTART:20271107T060000
END:STANDARD
END:VTIMEZONE
BEGIN:VEVENT
DTSTART;TZID=America/New_York:20260719T170000
DTEND;TZID=America/New_York:20260719T180000
DTSTAMP:20260421T045446
CREATED:20251112T151518Z
LAST-MODIFIED:20251112T151518Z
UID:32704-1784480400-1784484000@ipcmclean.org
SUMMARY:Immanuel in the Evening
DESCRIPTION:Immanuel in the Evening\nLooking for a relaxed\, welcoming space to worship? Immanuel in the Evening is a 5 PM service where you’ll find community\, renewal\, and room to be yourself. \nAt Immanuel\, our name means “God with us”—and we believe that includes everyone. As a More Light Congregation\, we fully affirm LGBTQIA+ people in every part of church life. \nEvening worship is simple\, spirit-filled\, and rooted in: \n\n\nPrayer and reflection \n\nA shared meal\n\nUplifting music \n\n\nHonest conversation about faith and life \n\n\nCome as you are. \n📅 Sundays at 5:00 PM📍 Immanuel Presbyterian Church of McLean\n1125 Savile Lane Mclean\, VA
URL:https://ipcmclean.org/event/immanuel-in-the-evening-3/2026-07-19/
LOCATION:IPC McLean\, 1125 Savile Lane\, McLean\, VA\, 22101\, United States
ATTACH;FMTTYPE=image/png:https://ipcmclean.org/wp-content/uploads/2025/08/Immanuel-in-the-Evening.png
END:VEVENT
BEGIN:VEVENT
DTSTART;TZID=America/New_York:20260726T170000
DTEND;TZID=America/New_York:20260726T180000
DTSTAMP:20260421T045446
CREATED:20251112T151518Z
LAST-MODIFIED:20251112T151518Z
UID:32705-1785085200-1785088800@ipcmclean.org
SUMMARY:Immanuel in the Evening
DESCRIPTION:Immanuel in the Evening\nLooking for a relaxed\, welcoming space to worship? Immanuel in the Evening is a 5 PM service where you’ll find community\, renewal\, and room to be yourself. \nAt Immanuel\, our name means “God with us”—and we believe that includes everyone. As a More Light Congregation\, we fully affirm LGBTQIA+ people in every part of church life. \nEvening worship is simple\, spirit-filled\, and rooted in: \n\n\nPrayer and reflection \n\nA shared meal\n\nUplifting music \n\n\nHonest conversation about faith and life \n\n\nCome as you are. \n📅 Sundays at 5:00 PM📍 Immanuel Presbyterian Church of McLean\n1125 Savile Lane Mclean\, VA
URL:https://ipcmclean.org/event/immanuel-in-the-evening-3/2026-07-26/
LOCATION:IPC McLean\, 1125 Savile Lane\, McLean\, VA\, 22101\, United States
ATTACH;FMTTYPE=image/png:https://ipcmclean.org/wp-content/uploads/2025/08/Immanuel-in-the-Evening.png
END:VEVENT
BEGIN:VEVENT
DTSTART;TZID=America/New_York:20260802T170000
DTEND;TZID=America/New_York:20260802T180000
DTSTAMP:20260421T045446
CREATED:20251112T151518Z
LAST-MODIFIED:20251112T151518Z
UID:32706-1785690000-1785693600@ipcmclean.org
SUMMARY:Immanuel in the Evening
DESCRIPTION:Immanuel in the Evening\nLooking for a relaxed\, welcoming space to worship? Immanuel in the Evening is a 5 PM service where you’ll find community\, renewal\, and room to be yourself. \nAt Immanuel\, our name means “God with us”—and we believe that includes everyone. As a More Light Congregation\, we fully affirm LGBTQIA+ people in every part of church life. \nEvening worship is simple\, spirit-filled\, and rooted in: \n\n\nPrayer and reflection \n\nA shared meal\n\nUplifting music \n\n\nHonest conversation about faith and life \n\n\nCome as you are. \n📅 Sundays at 5:00 PM📍 Immanuel Presbyterian Church of McLean\n1125 Savile Lane Mclean\, VA
URL:https://ipcmclean.org/event/immanuel-in-the-evening-3/2026-08-02/
LOCATION:IPC McLean\, 1125 Savile Lane\, McLean\, VA\, 22101\, United States
ATTACH;FMTTYPE=image/png:https://ipcmclean.org/wp-content/uploads/2025/08/Immanuel-in-the-Evening.png
END:VEVENT
BEGIN:VEVENT
DTSTART;TZID=America/New_York:20260809T170000
DTEND;TZID=America/New_York:20260809T180000
DTSTAMP:20260421T045446
CREATED:20251112T151518Z
LAST-MODIFIED:20251112T151518Z
UID:32707-1786294800-1786298400@ipcmclean.org
SUMMARY:Immanuel in the Evening
DESCRIPTION:Immanuel in the Evening\nLooking for a relaxed\, welcoming space to worship? Immanuel in the Evening is a 5 PM service where you’ll find community\, renewal\, and room to be yourself. \nAt Immanuel\, our name means “God with us”—and we believe that includes everyone. As a More Light Congregation\, we fully affirm LGBTQIA+ people in every part of church life. \nEvening worship is simple\, spirit-filled\, and rooted in: \n\n\nPrayer and reflection \n\nA shared meal\n\nUplifting music \n\n\nHonest conversation about faith and life \n\n\nCome as you are. \n📅 Sundays at 5:00 PM📍 Immanuel Presbyterian Church of McLean\n1125 Savile Lane Mclean\, VA
URL:https://ipcmclean.org/event/immanuel-in-the-evening-3/2026-08-09/
LOCATION:IPC McLean\, 1125 Savile Lane\, McLean\, VA\, 22101\, United States
ATTACH;FMTTYPE=image/png:https://ipcmclean.org/wp-content/uploads/2025/08/Immanuel-in-the-Evening.png
END:VEVENT
BEGIN:VEVENT
DTSTART;TZID=America/New_York:20260816T170000
DTEND;TZID=America/New_York:20260816T180000
DTSTAMP:20260421T045446
CREATED:20251112T151518Z
LAST-MODIFIED:20251112T151518Z
UID:32708-1786899600-1786903200@ipcmclean.org
SUMMARY:Immanuel in the Evening
DESCRIPTION:Immanuel in the Evening\nLooking for a relaxed\, welcoming space to worship? Immanuel in the Evening is a 5 PM service where you’ll find community\, renewal\, and room to be yourself. \nAt Immanuel\, our name means “God with us”—and we believe that includes everyone. As a More Light Congregation\, we fully affirm LGBTQIA+ people in every part of church life. \nEvening worship is simple\, spirit-filled\, and rooted in: \n\n\nPrayer and reflection \n\nA shared meal\n\nUplifting music \n\n\nHonest conversation about faith and life \n\n\nCome as you are. \n📅 Sundays at 5:00 PM📍 Immanuel Presbyterian Church of McLean\n1125 Savile Lane Mclean\, VA
URL:https://ipcmclean.org/event/immanuel-in-the-evening-3/2026-08-16/
LOCATION:IPC McLean\, 1125 Savile Lane\, McLean\, VA\, 22101\, United States
ATTACH;FMTTYPE=image/png:https://ipcmclean.org/wp-content/uploads/2025/08/Immanuel-in-the-Evening.png
END:VEVENT
BEGIN:VEVENT
DTSTART;TZID=America/New_York:20260823T170000
DTEND;TZID=America/New_York:20260823T180000
DTSTAMP:20260421T045446
CREATED:20251112T151518Z
LAST-MODIFIED:20251112T151518Z
UID:32709-1787504400-1787508000@ipcmclean.org
SUMMARY:Immanuel in the Evening
DESCRIPTION:Immanuel in the Evening\nLooking for a relaxed\, welcoming space to worship? Immanuel in the Evening is a 5 PM service where you’ll find community\, renewal\, and room to be yourself. \nAt Immanuel\, our name means “God with us”—and we believe that includes everyone. As a More Light Congregation\, we fully affirm LGBTQIA+ people in every part of church life. \nEvening worship is simple\, spirit-filled\, and rooted in: \n\n\nPrayer and reflection \n\nA shared meal\n\nUplifting music \n\n\nHonest conversation about faith and life \n\n\nCome as you are. \n📅 Sundays at 5:00 PM📍 Immanuel Presbyterian Church of McLean\n1125 Savile Lane Mclean\, VA
URL:https://ipcmclean.org/event/immanuel-in-the-evening-3/2026-08-23/
LOCATION:IPC McLean\, 1125 Savile Lane\, McLean\, VA\, 22101\, United States
ATTACH;FMTTYPE=image/png:https://ipcmclean.org/wp-content/uploads/2025/08/Immanuel-in-the-Evening.png
END:VEVENT
BEGIN:VEVENT
DTSTART;TZID=America/New_York:20260830T170000
DTEND;TZID=America/New_York:20260830T180000
DTSTAMP:20260421T045446
CREATED:20251112T151518Z
LAST-MODIFIED:20251112T151518Z
UID:32710-1788109200-1788112800@ipcmclean.org
SUMMARY:Immanuel in the Evening
DESCRIPTION:Immanuel in the Evening\nLooking for a relaxed\, welcoming space to worship? Immanuel in the Evening is a 5 PM service where you’ll find community\, renewal\, and room to be yourself. \nAt Immanuel\, our name means “God with us”—and we believe that includes everyone. As a More Light Congregation\, we fully affirm LGBTQIA+ people in every part of church life. \nEvening worship is simple\, spirit-filled\, and rooted in: \n\n\nPrayer and reflection \n\nA shared meal\n\nUplifting music \n\n\nHonest conversation about faith and life \n\n\nCome as you are. \n📅 Sundays at 5:00 PM📍 Immanuel Presbyterian Church of McLean\n1125 Savile Lane Mclean\, VA
URL:https://ipcmclean.org/event/immanuel-in-the-evening-3/2026-08-30/
LOCATION:IPC McLean\, 1125 Savile Lane\, McLean\, VA\, 22101\, United States
ATTACH;FMTTYPE=image/png:https://ipcmclean.org/wp-content/uploads/2025/08/Immanuel-in-the-Evening.png
END:VEVENT
BEGIN:VEVENT
DTSTART;TZID=America/New_York:20260906T170000
DTEND;TZID=America/New_York:20260906T180000
DTSTAMP:20260421T045446
CREATED:20251112T151518Z
LAST-MODIFIED:20251112T151518Z
UID:32711-1788714000-1788717600@ipcmclean.org
SUMMARY:Immanuel in the Evening
DESCRIPTION:Immanuel in the Evening\nLooking for a relaxed\, welcoming space to worship? Immanuel in the Evening is a 5 PM service where you’ll find community\, renewal\, and room to be yourself. \nAt Immanuel\, our name means “God with us”—and we believe that includes everyone. As a More Light Congregation\, we fully affirm LGBTQIA+ people in every part of church life. \nEvening worship is simple\, spirit-filled\, and rooted in: \n\n\nPrayer and reflection \n\nA shared meal\n\nUplifting music \n\n\nHonest conversation about faith and life \n\n\nCome as you are. \n📅 Sundays at 5:00 PM📍 Immanuel Presbyterian Church of McLean\n1125 Savile Lane Mclean\, VA
URL:https://ipcmclean.org/event/immanuel-in-the-evening-3/2026-09-06/
LOCATION:IPC McLean\, 1125 Savile Lane\, McLean\, VA\, 22101\, United States
ATTACH;FMTTYPE=image/png:https://ipcmclean.org/wp-content/uploads/2025/08/Immanuel-in-the-Evening.png
END:VEVENT
BEGIN:VEVENT
DTSTART;TZID=America/New_York:20260913T170000
DTEND;TZID=America/New_York:20260913T180000
DTSTAMP:20260421T045446
CREATED:20251112T151518Z
LAST-MODIFIED:20251112T151518Z
UID:32712-1789318800-1789322400@ipcmclean.org
SUMMARY:Immanuel in the Evening
DESCRIPTION:Immanuel in the Evening\nLooking for a relaxed\, welcoming space to worship? Immanuel in the Evening is a 5 PM service where you’ll find community\, renewal\, and room to be yourself. \nAt Immanuel\, our name means “God with us”—and we believe that includes everyone. As a More Light Congregation\, we fully affirm LGBTQIA+ people in every part of church life. \nEvening worship is simple\, spirit-filled\, and rooted in: \n\n\nPrayer and reflection \n\nA shared meal\n\nUplifting music \n\n\nHonest conversation about faith and life \n\n\nCome as you are. \n📅 Sundays at 5:00 PM📍 Immanuel Presbyterian Church of McLean\n1125 Savile Lane Mclean\, VA
URL:https://ipcmclean.org/event/immanuel-in-the-evening-3/2026-09-13/
LOCATION:IPC McLean\, 1125 Savile Lane\, McLean\, VA\, 22101\, United States
ATTACH;FMTTYPE=image/png:https://ipcmclean.org/wp-content/uploads/2025/08/Immanuel-in-the-Evening.png
END:VEVENT
BEGIN:VEVENT
DTSTART;TZID=America/New_York:20260920T170000
DTEND;TZID=America/New_York:20260920T180000
DTSTAMP:20260421T045446
CREATED:20251112T151518Z
LAST-MODIFIED:20251112T151518Z
UID:32713-1789923600-1789927200@ipcmclean.org
SUMMARY:Immanuel in the Evening
DESCRIPTION:Immanuel in the Evening\nLooking for a relaxed\, welcoming space to worship? Immanuel in the Evening is a 5 PM service where you’ll find community\, renewal\, and room to be yourself. \nAt Immanuel\, our name means “God with us”—and we believe that includes everyone. As a More Light Congregation\, we fully affirm LGBTQIA+ people in every part of church life. \nEvening worship is simple\, spirit-filled\, and rooted in: \n\n\nPrayer and reflection \n\nA shared meal\n\nUplifting music \n\n\nHonest conversation about faith and life \n\n\nCome as you are. \n📅 Sundays at 5:00 PM📍 Immanuel Presbyterian Church of McLean\n1125 Savile Lane Mclean\, VA
URL:https://ipcmclean.org/event/immanuel-in-the-evening-3/2026-09-20/
LOCATION:IPC McLean\, 1125 Savile Lane\, McLean\, VA\, 22101\, United States
ATTACH;FMTTYPE=image/png:https://ipcmclean.org/wp-content/uploads/2025/08/Immanuel-in-the-Evening.png
END:VEVENT
BEGIN:VEVENT
DTSTART;TZID=America/New_York:20260927T170000
DTEND;TZID=America/New_York:20260927T180000
DTSTAMP:20260421T045446
CREATED:20251112T151518Z
LAST-MODIFIED:20251112T151518Z
UID:32714-1790528400-1790532000@ipcmclean.org
SUMMARY:Immanuel in the Evening
DESCRIPTION:Immanuel in the Evening\nLooking for a relaxed\, welcoming space to worship? Immanuel in the Evening is a 5 PM service where you’ll find community\, renewal\, and room to be yourself. \nAt Immanuel\, our name means “God with us”—and we believe that includes everyone. As a More Light Congregation\, we fully affirm LGBTQIA+ people in every part of church life. \nEvening worship is simple\, spirit-filled\, and rooted in: \n\n\nPrayer and reflection \n\nA shared meal\n\nUplifting music \n\n\nHonest conversation about faith and life \n\n\nCome as you are. \n📅 Sundays at 5:00 PM📍 Immanuel Presbyterian Church of McLean\n1125 Savile Lane Mclean\, VA
URL:https://ipcmclean.org/event/immanuel-in-the-evening-3/2026-09-27/
LOCATION:IPC McLean\, 1125 Savile Lane\, McLean\, VA\, 22101\, United States
ATTACH;FMTTYPE=image/png:https://ipcmclean.org/wp-content/uploads/2025/08/Immanuel-in-the-Evening.png
END:VEVENT
BEGIN:VEVENT
DTSTART;TZID=America/New_York:20261004T170000
DTEND;TZID=America/New_York:20261004T180000
DTSTAMP:20260421T045446
CREATED:20251112T151518Z
LAST-MODIFIED:20251112T151518Z
UID:32715-1791133200-1791136800@ipcmclean.org
SUMMARY:Immanuel in the Evening
DESCRIPTION:Immanuel in the Evening\nLooking for a relaxed\, welcoming space to worship? Immanuel in the Evening is a 5 PM service where you’ll find community\, renewal\, and room to be yourself. \nAt Immanuel\, our name means “God with us”—and we believe that includes everyone. As a More Light Congregation\, we fully affirm LGBTQIA+ people in every part of church life. \nEvening worship is simple\, spirit-filled\, and rooted in: \n\n\nPrayer and reflection \n\nA shared meal\n\nUplifting music \n\n\nHonest conversation about faith and life \n\n\nCome as you are. \n📅 Sundays at 5:00 PM📍 Immanuel Presbyterian Church of McLean\n1125 Savile Lane Mclean\, VA
URL:https://ipcmclean.org/event/immanuel-in-the-evening-3/2026-10-04/
LOCATION:IPC McLean\, 1125 Savile Lane\, McLean\, VA\, 22101\, United States
ATTACH;FMTTYPE=image/png:https://ipcmclean.org/wp-content/uploads/2025/08/Immanuel-in-the-Evening.png
END:VEVENT
BEGIN:VEVENT
DTSTART;TZID=America/New_York:20261011T170000
DTEND;TZID=America/New_York:20261011T180000
DTSTAMP:20260421T045446
CREATED:20251112T151518Z
LAST-MODIFIED:20251112T151518Z
UID:32716-1791738000-1791741600@ipcmclean.org
SUMMARY:Immanuel in the Evening
DESCRIPTION:Immanuel in the Evening\nLooking for a relaxed\, welcoming space to worship? Immanuel in the Evening is a 5 PM service where you’ll find community\, renewal\, and room to be yourself. \nAt Immanuel\, our name means “God with us”—and we believe that includes everyone. As a More Light Congregation\, we fully affirm LGBTQIA+ people in every part of church life. \nEvening worship is simple\, spirit-filled\, and rooted in: \n\n\nPrayer and reflection \n\nA shared meal\n\nUplifting music \n\n\nHonest conversation about faith and life \n\n\nCome as you are. \n📅 Sundays at 5:00 PM📍 Immanuel Presbyterian Church of McLean\n1125 Savile Lane Mclean\, VA
URL:https://ipcmclean.org/event/immanuel-in-the-evening-3/2026-10-11/
LOCATION:IPC McLean\, 1125 Savile Lane\, McLean\, VA\, 22101\, United States
ATTACH;FMTTYPE=image/png:https://ipcmclean.org/wp-content/uploads/2025/08/Immanuel-in-the-Evening.png
END:VEVENT
BEGIN:VEVENT
DTSTART;TZID=America/New_York:20261018T170000
DTEND;TZID=America/New_York:20261018T180000
DTSTAMP:20260421T045446
CREATED:20251112T151518Z
LAST-MODIFIED:20251112T151518Z
UID:32717-1792342800-1792346400@ipcmclean.org
SUMMARY:Immanuel in the Evening
DESCRIPTION:Immanuel in the Evening\nLooking for a relaxed\, welcoming space to worship? Immanuel in the Evening is a 5 PM service where you’ll find community\, renewal\, and room to be yourself. \nAt Immanuel\, our name means “God with us”—and we believe that includes everyone. As a More Light Congregation\, we fully affirm LGBTQIA+ people in every part of church life. \nEvening worship is simple\, spirit-filled\, and rooted in: \n\n\nPrayer and reflection \n\nA shared meal\n\nUplifting music \n\n\nHonest conversation about faith and life \n\n\nCome as you are. \n📅 Sundays at 5:00 PM📍 Immanuel Presbyterian Church of McLean\n1125 Savile Lane Mclean\, VA
URL:https://ipcmclean.org/event/immanuel-in-the-evening-3/2026-10-18/
LOCATION:IPC McLean\, 1125 Savile Lane\, McLean\, VA\, 22101\, United States
ATTACH;FMTTYPE=image/png:https://ipcmclean.org/wp-content/uploads/2025/08/Immanuel-in-the-Evening.png
END:VEVENT
BEGIN:VEVENT
DTSTART;TZID=America/New_York:20261025T170000
DTEND;TZID=America/New_York:20261025T180000
DTSTAMP:20260421T045446
CREATED:20251112T151518Z
LAST-MODIFIED:20251112T151518Z
UID:32718-1792947600-1792951200@ipcmclean.org
SUMMARY:Immanuel in the Evening
DESCRIPTION:Immanuel in the Evening\nLooking for a relaxed\, welcoming space to worship? Immanuel in the Evening is a 5 PM service where you’ll find community\, renewal\, and room to be yourself. \nAt Immanuel\, our name means “God with us”—and we believe that includes everyone. As a More Light Congregation\, we fully affirm LGBTQIA+ people in every part of church life. \nEvening worship is simple\, spirit-filled\, and rooted in: \n\n\nPrayer and reflection \n\nA shared meal\n\nUplifting music \n\n\nHonest conversation about faith and life \n\n\nCome as you are. \n📅 Sundays at 5:00 PM📍 Immanuel Presbyterian Church of McLean\n1125 Savile Lane Mclean\, VA
URL:https://ipcmclean.org/event/immanuel-in-the-evening-3/2026-10-25/
LOCATION:IPC McLean\, 1125 Savile Lane\, McLean\, VA\, 22101\, United States
ATTACH;FMTTYPE=image/png:https://ipcmclean.org/wp-content/uploads/2025/08/Immanuel-in-the-Evening.png
END:VEVENT
BEGIN:VEVENT
DTSTART;TZID=America/New_York:20261101T170000
DTEND;TZID=America/New_York:20261101T180000
DTSTAMP:20260421T045446
CREATED:20251112T151518Z
LAST-MODIFIED:20251112T151518Z
UID:32719-1793552400-1793556000@ipcmclean.org
SUMMARY:Immanuel in the Evening
DESCRIPTION:Immanuel in the Evening\nLooking for a relaxed\, welcoming space to worship? Immanuel in the Evening is a 5 PM service where you’ll find community\, renewal\, and room to be yourself. \nAt Immanuel\, our name means “God with us”—and we believe that includes everyone. As a More Light Congregation\, we fully affirm LGBTQIA+ people in every part of church life. \nEvening worship is simple\, spirit-filled\, and rooted in: \n\n\nPrayer and reflection \n\nA shared meal\n\nUplifting music \n\n\nHonest conversation about faith and life \n\n\nCome as you are. \n📅 Sundays at 5:00 PM📍 Immanuel Presbyterian Church of McLean\n1125 Savile Lane Mclean\, VA
URL:https://ipcmclean.org/event/immanuel-in-the-evening-3/2026-11-01/
LOCATION:IPC McLean\, 1125 Savile Lane\, McLean\, VA\, 22101\, United States
ATTACH;FMTTYPE=image/png:https://ipcmclean.org/wp-content/uploads/2025/08/Immanuel-in-the-Evening.png
END:VEVENT
BEGIN:VEVENT
DTSTART;TZID=America/New_York:20261108T170000
DTEND;TZID=America/New_York:20261108T180000
DTSTAMP:20260421T045446
CREATED:20251112T151518Z
LAST-MODIFIED:20251112T151518Z
UID:32720-1794157200-1794160800@ipcmclean.org
SUMMARY:Immanuel in the Evening
DESCRIPTION:Immanuel in the Evening\nLooking for a relaxed\, welcoming space to worship? Immanuel in the Evening is a 5 PM service where you’ll find community\, renewal\, and room to be yourself. \nAt Immanuel\, our name means “God with us”—and we believe that includes everyone. As a More Light Congregation\, we fully affirm LGBTQIA+ people in every part of church life. \nEvening worship is simple\, spirit-filled\, and rooted in: \n\n\nPrayer and reflection \n\nA shared meal\n\nUplifting music \n\n\nHonest conversation about faith and life \n\n\nCome as you are. \n📅 Sundays at 5:00 PM📍 Immanuel Presbyterian Church of McLean\n1125 Savile Lane Mclean\, VA
URL:https://ipcmclean.org/event/immanuel-in-the-evening-3/2026-11-08/
LOCATION:IPC McLean\, 1125 Savile Lane\, McLean\, VA\, 22101\, United States
ATTACH;FMTTYPE=image/png:https://ipcmclean.org/wp-content/uploads/2025/08/Immanuel-in-the-Evening.png
END:VEVENT
BEGIN:VEVENT
DTSTART;TZID=America/New_York:20261115T170000
DTEND;TZID=America/New_York:20261115T180000
DTSTAMP:20260421T045446
CREATED:20251112T151518Z
LAST-MODIFIED:20251112T151518Z
UID:32721-1794762000-1794765600@ipcmclean.org
SUMMARY:Immanuel in the Evening
DESCRIPTION:Immanuel in the Evening\nLooking for a relaxed\, welcoming space to worship? Immanuel in the Evening is a 5 PM service where you’ll find community\, renewal\, and room to be yourself. \nAt Immanuel\, our name means “God with us”—and we believe that includes everyone. As a More Light Congregation\, we fully affirm LGBTQIA+ people in every part of church life. \nEvening worship is simple\, spirit-filled\, and rooted in: \n\n\nPrayer and reflection \n\nA shared meal\n\nUplifting music \n\n\nHonest conversation about faith and life \n\n\nCome as you are. \n📅 Sundays at 5:00 PM📍 Immanuel Presbyterian Church of McLean\n1125 Savile Lane Mclean\, VA
URL:https://ipcmclean.org/event/immanuel-in-the-evening-3/2026-11-15/
LOCATION:IPC McLean\, 1125 Savile Lane\, McLean\, VA\, 22101\, United States
ATTACH;FMTTYPE=image/png:https://ipcmclean.org/wp-content/uploads/2025/08/Immanuel-in-the-Evening.png
END:VEVENT
BEGIN:VEVENT
DTSTART;TZID=America/New_York:20261122T170000
DTEND;TZID=America/New_York:20261122T180000
DTSTAMP:20260421T045446
CREATED:20251112T151518Z
LAST-MODIFIED:20251112T151518Z
UID:32722-1795366800-1795370400@ipcmclean.org
SUMMARY:Immanuel in the Evening
DESCRIPTION:Immanuel in the Evening\nLooking for a relaxed\, welcoming space to worship? Immanuel in the Evening is a 5 PM service where you’ll find community\, renewal\, and room to be yourself. \nAt Immanuel\, our name means “God with us”—and we believe that includes everyone. As a More Light Congregation\, we fully affirm LGBTQIA+ people in every part of church life. \nEvening worship is simple\, spirit-filled\, and rooted in: \n\n\nPrayer and reflection \n\nA shared meal\n\nUplifting music \n\n\nHonest conversation about faith and life \n\n\nCome as you are. \n📅 Sundays at 5:00 PM📍 Immanuel Presbyterian Church of McLean\n1125 Savile Lane Mclean\, VA
URL:https://ipcmclean.org/event/immanuel-in-the-evening-3/2026-11-22/
LOCATION:IPC McLean\, 1125 Savile Lane\, McLean\, VA\, 22101\, United States
ATTACH;FMTTYPE=image/png:https://ipcmclean.org/wp-content/uploads/2025/08/Immanuel-in-the-Evening.png
END:VEVENT
BEGIN:VEVENT
DTSTART;TZID=America/New_York:20261129T170000
DTEND;TZID=America/New_York:20261129T180000
DTSTAMP:20260421T045446
CREATED:20251112T151518Z
LAST-MODIFIED:20251112T151518Z
UID:32723-1795971600-1795975200@ipcmclean.org
SUMMARY:Immanuel in the Evening
DESCRIPTION:Immanuel in the Evening\nLooking for a relaxed\, welcoming space to worship? Immanuel in the Evening is a 5 PM service where you’ll find community\, renewal\, and room to be yourself. \nAt Immanuel\, our name means “God with us”—and we believe that includes everyone. As a More Light Congregation\, we fully affirm LGBTQIA+ people in every part of church life. \nEvening worship is simple\, spirit-filled\, and rooted in: \n\n\nPrayer and reflection \n\nA shared meal\n\nUplifting music \n\n\nHonest conversation about faith and life \n\n\nCome as you are. \n📅 Sundays at 5:00 PM📍 Immanuel Presbyterian Church of McLean\n1125 Savile Lane Mclean\, VA
URL:https://ipcmclean.org/event/immanuel-in-the-evening-3/2026-11-29/
LOCATION:IPC McLean\, 1125 Savile Lane\, McLean\, VA\, 22101\, United States
ATTACH;FMTTYPE=image/png:https://ipcmclean.org/wp-content/uploads/2025/08/Immanuel-in-the-Evening.png
END:VEVENT
BEGIN:VEVENT
DTSTART;TZID=America/New_York:20261206T170000
DTEND;TZID=America/New_York:20261206T180000
DTSTAMP:20260421T045446
CREATED:20251112T151518Z
LAST-MODIFIED:20251112T151518Z
UID:32724-1796576400-1796580000@ipcmclean.org
SUMMARY:Immanuel in the Evening
DESCRIPTION:Immanuel in the Evening\nLooking for a relaxed\, welcoming space to worship? Immanuel in the Evening is a 5 PM service where you’ll find community\, renewal\, and room to be yourself. \nAt Immanuel\, our name means “God with us”—and we believe that includes everyone. As a More Light Congregation\, we fully affirm LGBTQIA+ people in every part of church life. \nEvening worship is simple\, spirit-filled\, and rooted in: \n\n\nPrayer and reflection \n\nA shared meal\n\nUplifting music \n\n\nHonest conversation about faith and life \n\n\nCome as you are. \n📅 Sundays at 5:00 PM📍 Immanuel Presbyterian Church of McLean\n1125 Savile Lane Mclean\, VA
URL:https://ipcmclean.org/event/immanuel-in-the-evening-3/2026-12-06/
LOCATION:IPC McLean\, 1125 Savile Lane\, McLean\, VA\, 22101\, United States
ATTACH;FMTTYPE=image/png:https://ipcmclean.org/wp-content/uploads/2025/08/Immanuel-in-the-Evening.png
END:VEVENT
BEGIN:VEVENT
DTSTART;TZID=America/New_York:20261213T170000
DTEND;TZID=America/New_York:20261213T180000
DTSTAMP:20260421T045446
CREATED:20251112T151518Z
LAST-MODIFIED:20251112T151518Z
UID:32725-1797181200-1797184800@ipcmclean.org
SUMMARY:Immanuel in the Evening
DESCRIPTION:Immanuel in the Evening\nLooking for a relaxed\, welcoming space to worship? Immanuel in the Evening is a 5 PM service where you’ll find community\, renewal\, and room to be yourself. \nAt Immanuel\, our name means “God with us”—and we believe that includes everyone. As a More Light Congregation\, we fully affirm LGBTQIA+ people in every part of church life. \nEvening worship is simple\, spirit-filled\, and rooted in: \n\n\nPrayer and reflection \n\nA shared meal\n\nUplifting music \n\n\nHonest conversation about faith and life \n\n\nCome as you are. \n📅 Sundays at 5:00 PM📍 Immanuel Presbyterian Church of McLean\n1125 Savile Lane Mclean\, VA
URL:https://ipcmclean.org/event/immanuel-in-the-evening-3/2026-12-13/
LOCATION:IPC McLean\, 1125 Savile Lane\, McLean\, VA\, 22101\, United States
ATTACH;FMTTYPE=image/png:https://ipcmclean.org/wp-content/uploads/2025/08/Immanuel-in-the-Evening.png
END:VEVENT
BEGIN:VEVENT
DTSTART;TZID=America/New_York:20261220T170000
DTEND;TZID=America/New_York:20261220T180000
DTSTAMP:20260421T045446
CREATED:20251112T151518Z
LAST-MODIFIED:20251112T151518Z
UID:32726-1797786000-1797789600@ipcmclean.org
SUMMARY:Immanuel in the Evening
DESCRIPTION:Immanuel in the Evening\nLooking for a relaxed\, welcoming space to worship? Immanuel in the Evening is a 5 PM service where you’ll find community\, renewal\, and room to be yourself. \nAt Immanuel\, our name means “God with us”—and we believe that includes everyone. As a More Light Congregation\, we fully affirm LGBTQIA+ people in every part of church life. \nEvening worship is simple\, spirit-filled\, and rooted in: \n\n\nPrayer and reflection \n\nA shared meal\n\nUplifting music \n\n\nHonest conversation about faith and life \n\n\nCome as you are. \n📅 Sundays at 5:00 PM📍 Immanuel Presbyterian Church of McLean\n1125 Savile Lane Mclean\, VA
URL:https://ipcmclean.org/event/immanuel-in-the-evening-3/2026-12-20/
LOCATION:IPC McLean\, 1125 Savile Lane\, McLean\, VA\, 22101\, United States
ATTACH;FMTTYPE=image/png:https://ipcmclean.org/wp-content/uploads/2025/08/Immanuel-in-the-Evening.png
END:VEVENT
BEGIN:VEVENT
DTSTART;TZID=America/New_York:20261227T170000
DTEND;TZID=America/New_York:20261227T180000
DTSTAMP:20260421T045446
CREATED:20251112T151518Z
LAST-MODIFIED:20251112T151518Z
UID:32727-1798390800-1798394400@ipcmclean.org
SUMMARY:Immanuel in the Evening
DESCRIPTION:Immanuel in the Evening\nLooking for a relaxed\, welcoming space to worship? Immanuel in the Evening is a 5 PM service where you’ll find community\, renewal\, and room to be yourself. \nAt Immanuel\, our name means “God with us”—and we believe that includes everyone. As a More Light Congregation\, we fully affirm LGBTQIA+ people in every part of church life. \nEvening worship is simple\, spirit-filled\, and rooted in: \n\n\nPrayer and reflection \n\nA shared meal\n\nUplifting music \n\n\nHonest conversation about faith and life \n\n\nCome as you are. \n📅 Sundays at 5:00 PM📍 Immanuel Presbyterian Church of McLean\n1125 Savile Lane Mclean\, VA
URL:https://ipcmclean.org/event/immanuel-in-the-evening-3/2026-12-27/
LOCATION:IPC McLean\, 1125 Savile Lane\, McLean\, VA\, 22101\, United States
ATTACH;FMTTYPE=image/png:https://ipcmclean.org/wp-content/uploads/2025/08/Immanuel-in-the-Evening.png
END:VEVENT
END:VCALENDAR